BEGIN:VCALENDAR
VERSION:2.0
PRODID:-//eventon.com NONSGML v1.0//EN
CALSCALE:GREGORIAN
METHOD:PUBLISH
BEGIN:VEVENT
UID:69eb9b5029993
DTSTAMP:20260424T163320Z
DTSTART:20230306
DTEND:20230307
LOCATION:
SUMMARY:Bulgaria Open G2 (poomsae)
DESCRIPTION:Bulgaria Open G2 (poomsae)\nhttps://www.taekwondobond.nl/events
 /bulgaria-open-g2-poomsae/
URL:https://www.taekwondobond.nl/events/bulgaria-open-g2-poomsae/
END:VEVENT
END:VCALENDAR