BEGIN:VCALENDAR
VERSION:2.0
PRODID:-//eventon.com NONSGML v1.0//EN
CALSCALE:GREGORIAN
METHOD:PUBLISH
BEGIN:VEVENT
UID:69eb9c41f4025
DTSTAMP:20260424T163721Z
DTSTART:20230430
DTEND:20230501
LOCATION:
SUMMARY:Swedish Open G1 (poomsae)
DESCRIPTION:G1\nhttps://www.taekwondobond.nl/events/swedish-open-poomsae/
URL:https://www.taekwondobond.nl/events/swedish-open-poomsae/
END:VEVENT
END:VCALENDAR