BEGIN:VCALENDAR
VERSION:2.0
PRODID:-//eventon.com NONSGML v1.0//EN
CALSCALE:GREGORIAN
METHOD:PUBLISH
BEGIN:VEVENT
UID:69e7694e31d04
DTSTAMP:20260421T121054Z
DTSTART:20230813T000000Z
DTEND:20230816T235900Z
LOCATION:
SUMMARY:2023 European Para Championships G2 (sparring)
DESCRIPTION:Kyorugi &#8211; K44\nhttps://www.taekwondobond.nl/events/2023-e
 uropean-para-championships-g2-sparring/
URL:https://www.taekwondobond.nl/events/2023-european-para-championships-g2-sparring/
END:VEVENT
END:VCALENDAR