BEGIN:VCALENDAR
VERSION:2.0
PRODID:-//eventon.com NONSGML v1.0//EN
CALSCALE:GREGORIAN
METHOD:PUBLISH
BEGIN:VEVENT
UID:69eb9bb255978
DTSTAMP:20260424T163458Z
DTSTART:20230318
DTEND:20230319
LOCATION:
SUMMARY:Danvoorbereidingstraining
DESCRIPTION:Uitschrijving danvoorbereidingstraining 18 maart 2023\nhttps://
 www.taekwondobond.nl/events/danvoorbereidingstraining-7/
URL:https://www.taekwondobond.nl/events/danvoorbereidingstraining-7/
END:VEVENT
END:VCALENDAR