BEGIN:VCALENDAR
VERSION:2.0
PRODID:-//eventon.com NONSGML v1.0//EN
CALSCALE:GREGORIAN
METHOD:PUBLISH
BEGIN:VEVENT
UID:69eb9b69b9df1
DTSTAMP:20260424T163345Z
DTSTART:20230318
DTEND:20230319
LOCATION:
SUMMARY:Danexaminatoren bijscholing
DESCRIPTION:Danexaminatoren bijscholing\nhttps://www.taekwondobond.nl/event
 s/danexaminatoren-bijscholing-3/
URL:https://www.taekwondobond.nl/events/danexaminatoren-bijscholing-3/
END:VEVENT
END:VCALENDAR