BEGIN:VCALENDAR
VERSION:2.0
PRODID:-//eventon.com NONSGML v1.0//EN
CALSCALE:GREGORIAN
METHOD:PUBLISH
BEGIN:VEVENT
UID:69e5e2fce853e
DTSTAMP:20260420T082532Z
DTSTART:20230407T125100Z
DTEND:20230409T125100Z
LOCATION:
SUMMARY:Qualification Tournament European Games (sparring)
DESCRIPTION:Qualification Tournament European Games (sparring)\nhttps://www
 .taekwondobond.nl/events/qualification-tournament-european-games/
URL:https://www.taekwondobond.nl/events/qualification-tournament-european-games/
END:VEVENT
END:VCALENDAR