BEGIN:VCALENDAR
VERSION:2.0
PRODID:-//eventon.com NONSGML v1.0//EN
CALSCALE:GREGORIAN
METHOD:PUBLISH
BEGIN:VEVENT
UID:69e5f8c09f13f
DTSTAMP:20260420T095824Z
DTSTART:20230427T125500Z
DTEND:20230430T125500Z
LOCATION:
SUMMARY:European Club Championships G1
DESCRIPTION:European Club Championships G1\nhttps://www.taekwondobond.nl/ev
 ents/european-club-championships-g1/
URL:https://www.taekwondobond.nl/events/european-club-championships-g1/
END:VEVENT
END:VCALENDAR