BEGIN:VCALENDAR
VERSION:2.0
PRODID:-//eventon.com NONSGML v1.0//EN
CALSCALE:GREGORIAN
METHOD:PUBLISH
BEGIN:VEVENT
UID:69eb9bd9b4ca3
DTSTAMP:20260424T163537Z
DTSTART:20230513T125600Z
DTEND:20230514T125600Z
LOCATION:
SUMMARY:Multi European Games G1
DESCRIPTION:Multi European Games G1\nhttps://www.taekwondobond.nl/events/mu
 lti-european-games-g1/
URL:https://www.taekwondobond.nl/events/multi-european-games-g1/
END:VEVENT
END:VCALENDAR