BEGIN:VCALENDAR
VERSION:2.0
PRODID:-//eventon.com NONSGML v1.0//EN
CALSCALE:GREGORIAN
METHOD:PUBLISH
BEGIN:VEVENT
UID:69e5f8bfb3a53
DTSTAMP:20260420T095823Z
DTSTART:20230630
DTEND:20230701
LOCATION:
SUMMARY:European Para Championships G4
DESCRIPTION:European Para Championships G4\nhttps://www.taekwondobond.nl/ev
 ents/european-para-championships-g4/
URL:https://www.taekwondobond.nl/events/european-para-championships-g4/
END:VEVENT
END:VCALENDAR