BEGIN:VCALENDAR
VERSION:2.0
PRODID:-//eventon.com NONSGML v1.0//EN
CALSCALE:GREGORIAN
METHOD:PUBLISH
BEGIN:VEVENT
UID:69eb9bef1554c
DTSTAMP:20260424T163559Z
DTSTART:20231021T105600Z
DTEND:20231021T105600Z
LOCATION:
SUMMARY:TTE Open 2023
DESCRIPTION:TTE open 2023 outline\nhttps://www.taekwondobond.nl/events/5e-t
 te-open-onder-voorbehoud/
URL:https://www.taekwondobond.nl/events/5e-tte-open-onder-voorbehoud/
END:VEVENT
END:VCALENDAR