BEGIN:VCALENDAR
VERSION:2.0
PRODID:-//eventon.com NONSGML v1.0//EN
CALSCALE:GREGORIAN
METHOD:PUBLISH
BEGIN:VEVENT
UID:69eb9c409c05d
DTSTAMP:20260424T163720Z
DTSTART:20230506T094500Z
DTEND:20230506T160000Z
LOCATION:
SUMMARY:Stijljurycursus
DESCRIPTION:Stijljurycursus mei 2023\nhttps://www.taekwondobond.nl/events/s
 tijljurycursus-7/
URL:https://www.taekwondobond.nl/events/stijljurycursus-7/
END:VEVENT
END:VCALENDAR