BEGIN:VCALENDAR
VERSION:2.0
PRODID:-//eventon.com NONSGML v1.0//EN
CALSCALE:GREGORIAN
METHOD:PUBLISH
BEGIN:VEVENT
UID:69eb9c495afd8
DTSTAMP:20260424T163729Z
DTSTART:20230507T093000Z
DTEND:20230507T123000Z
LOCATION:
SUMMARY:Districtsvergadering Noord-Oost
DESCRIPTION:Voorlopige agenda voorjaarsvergadering 2023 district Noord-Oost
  Agenda districtsvergadering Noord-Oost 7 mei 2023 &nbsp;\nhttps://www.taek
 wondobond.nl/events/districtsvergadering-noord-oost-8/
URL:https://www.taekwondobond.nl/events/districtsvergadering-noord-oost-8/
END:VEVENT
END:VCALENDAR