BEGIN:VCALENDAR
VERSION:2.0
PRODID:-//eventon.com NONSGML v1.0//EN
CALSCALE:GREGORIAN
METHOD:PUBLISH
BEGIN:VEVENT
UID:69eb9bf5b6a8f
DTSTAMP:20260424T163605Z
DTSTART:20231029
DTEND:20231030
LOCATION:
SUMMARY:District Noord-Oost Stijltoernooi en breektestentoernooi
DESCRIPTION:Let op! Deelname alleen voor leden district Noord-Oost en/of st
 udenten aan een HBO/WO opleiding. Separate uitschrijvingen stijl en breekte
 sten: District Noord-Oost Stijltoernooi 29 oktober 2023 District-Noord-Oost
 -Breektestentoernooi-2023 &nbsp;\nhttps://www.taekwondobond.nl/events/distr
 ict-noord-oost-stijltoernooi-onder-voorbehoud/
URL:https://www.taekwondobond.nl/events/district-noord-oost-stijltoernooi-onder-voorbehoud/
END:VEVENT
END:VCALENDAR