BEGIN:VCALENDAR
VERSION:2.0
PRODID:-//eventon.com NONSGML v1.0//EN
CALSCALE:GREGORIAN
METHOD:PUBLISH
BEGIN:VEVENT
UID:69eb9bf3cf4a8
DTSTAMP:20260424T163603Z
DTSTART:20230624
DTEND:20230625
LOCATION:
SUMMARY:Nationaal danexamen
DESCRIPTION:uitschrijving nationaal danexamen 24 juni 2023\nhttps://www.tae
 kwondobond.nl/events/nationaal-danexamen-11/
URL:https://www.taekwondobond.nl/events/nationaal-danexamen-11/
END:VEVENT
END:VCALENDAR