BEGIN:VCALENDAR
VERSION:2.0
PRODID:-//eventon.com NONSGML v1.0//EN
CALSCALE:GREGORIAN
METHOD:PUBLISH
BEGIN:VEVENT
UID:69eb9b922f00a
DTSTAMP:20260424T163426Z
DTSTART:20230416
DTEND:20230417
LOCATION:
SUMMARY:Wedstrijdreglementencursus
DESCRIPTION:Wedstrijdreglementencursus april 2023 &nbsp;\nhttps://www.taekw
 ondobond.nl/events/wedstrijdreglementencursus-11/
URL:https://www.taekwondobond.nl/events/wedstrijdreglementencursus-11/
END:VEVENT
END:VCALENDAR