BEGIN:VCALENDAR
VERSION:2.0
PRODID:-//eventon.com NONSGML v1.0//EN
CALSCALE:GREGORIAN
METHOD:PUBLISH
BEGIN:VEVENT
UID:69eb9bdb04e15
DTSTAMP:20260424T163539Z
DTSTART:20230527T120000Z
DTEND:20230527T140000Z
LOCATION:
SUMMARY:Funseminar
DESCRIPTION:Flyer fun seminar 27 mei 2023\nhttps://www.taekwondobond.nl/eve
 nts/funseminar/
URL:https://www.taekwondobond.nl/events/funseminar/
END:VEVENT
END:VCALENDAR