BEGIN:VCALENDAR
VERSION:2.0
PRODID:-//eventon.com NONSGML v1.0//EN
CALSCALE:GREGORIAN
METHOD:PUBLISH
BEGIN:VEVENT
UID:69eb9c48b7d82
DTSTAMP:20260424T163728Z
DTSTART:20240414
DTEND:20240415
LOCATION:
SUMMARY:Open districtskampioenschap stijl - district Noord Oost
DESCRIPTION:Open District NoordOost Poomsae kampioenschap 2024 &nbsp;\nhttp
 s://www.taekwondobond.nl/events/open-districtskampioenschap-stijl-district-
 noord-oost-2/
URL:https://www.taekwondobond.nl/events/open-districtskampioenschap-stijl-district-noord-oost-2/
END:VEVENT
END:VCALENDAR