BEGIN:VCALENDAR
VERSION:2.0
PRODID:-//eventon.com NONSGML v1.0//EN
CALSCALE:GREGORIAN
METHOD:PUBLISH
BEGIN:VEVENT
UID:69eb9c04ad157
DTSTAMP:20260424T163620Z
DTSTART:20230522T184500Z
DTEND:20230522T213000Z
LOCATION:
SUMMARY:Districtsvergadering West-Nederland
DESCRIPTION:definitieve agenda districtsvergadering West oproep districtsve
 rgadering West mei 2023\nhttps://www.taekwondobond.nl/events/districtsverga
 dering-west-nederland-5/
URL:https://www.taekwondobond.nl/events/districtsvergadering-west-nederland-5/
END:VEVENT
END:VCALENDAR