BEGIN:VCALENDAR
VERSION:2.0
PRODID:-//eventon.com NONSGML v1.0//EN
CALSCALE:GREGORIAN
METHOD:PUBLISH
BEGIN:VEVENT
UID:69eb9bb0715b7
DTSTAMP:20260424T163456Z
DTSTART:20230628T193000Z
DTEND:20230628T223000Z
LOCATION:
SUMMARY:Voorjaarsvergadering
DESCRIPTION:Oproep voorjaarsvergadering 2023 Definitieve agenda voorjaarsve
 rgadering 2023\nhttps://www.taekwondobond.nl/events/voorjaarsvergadering-7/
URL:https://www.taekwondobond.nl/events/voorjaarsvergadering-7/
END:VEVENT
END:VCALENDAR