BEGIN:VCALENDAR
VERSION:2.0
PRODID:-//eventon.com NONSGML v1.0//EN
CALSCALE:GREGORIAN
METHOD:PUBLISH
BEGIN:VEVENT
UID:69eb9b9810c0d
DTSTAMP:20260424T163432Z
DTSTART:20231112
DTEND:20231113
LOCATION:
SUMMARY:Stijljurycursus
DESCRIPTION:Stijljurycursus november 2023\nhttps://www.taekwondobond.nl/eve
 nts/stijljurycursus-onder-voorbehoud/
URL:https://www.taekwondobond.nl/events/stijljurycursus-onder-voorbehoud/
END:VEVENT
END:VCALENDAR