BEGIN:VCALENDAR
VERSION:2.0
PRODID:-//eventon.com NONSGML v1.0//EN
CALSCALE:GREGORIAN
METHOD:PUBLISH
BEGIN:VEVENT
UID:69eb9c4c73d81
DTSTAMP:20260424T163732Z
DTSTART:20230824T000000Z
DTEND:20230826T235900Z
LOCATION:
SUMMARY:European Championships OWC (sparring)
DESCRIPTION:European Championships OWC (sparring)\nhttps://www.taekwondobon
 d.nl/events/european-championships-owc-sparring/
URL:https://www.taekwondobond.nl/events/european-championships-owc-sparring/
END:VEVENT
END:VCALENDAR