BEGIN:VCALENDAR
VERSION:2.0
PRODID:-//eventon.com NONSGML v1.0//EN
CALSCALE:GREGORIAN
METHOD:PUBLISH
BEGIN:VEVENT
UID:69eb9c49721b2
DTSTAMP:20260424T163729Z
DTSTART:20231124T000000Z
DTEND:20231126T235900Z
LOCATION:
SUMMARY:European Poomsae Championships
DESCRIPTION:European Poomsae Championships\nhttps://www.taekwondobond.nl/ev
 ents/european-poomsae-championships/
URL:https://www.taekwondobond.nl/events/european-poomsae-championships/
END:VEVENT
END:VCALENDAR