BEGIN:VCALENDAR
VERSION:2.0
PRODID:-//eventon.com NONSGML v1.0//EN
CALSCALE:GREGORIAN
METHOD:PUBLISH
BEGIN:VEVENT
UID:69eb9b511d758
DTSTAMP:20260424T163321Z
DTSTART:20231209T000000Z
DTEND:20231211T235900Z
LOCATION:
SUMMARY:European U21 Championships (sparring)
DESCRIPTION:European U21 Championships (sparring)\nhttps://www.taekwondobon
 d.nl/events/european-u21-championships-sparring/
URL:https://www.taekwondobond.nl/events/european-u21-championships-sparring/
END:VEVENT
END:VCALENDAR