BEGIN:VCALENDAR
VERSION:2.0
PRODID:-//eventon.com NONSGML v1.0//EN
CALSCALE:GREGORIAN
METHOD:PUBLISH
BEGIN:VEVENT
UID:69eb9b980c457
DTSTAMP:20260424T163432Z
DTSTART:20230607T194500Z
DTEND:20230607T220000Z
LOCATION:
SUMMARY:Districtsvergadering Zuid-Nederland
DESCRIPTION:oproep districtsvergadering Zuid juni 2023 definitieve agenda d
 istrictsvergadering Zuid\nhttps://www.taekwondobond.nl/events/districtsverg
 adering-zuid-nederland-9/
URL:https://www.taekwondobond.nl/events/districtsvergadering-zuid-nederland-9/
END:VEVENT
END:VCALENDAR