BEGIN:VCALENDAR
VERSION:2.0
PRODID:-//eventon.com NONSGML v1.0//EN
CALSCALE:GREGORIAN
METHOD:PUBLISH
BEGIN:VEVENT
UID:69eb9c4d1096a
DTSTAMP:20260424T163733Z
DTSTART:20240309T080000Z
DTEND:20240310T200000Z
LOCATION:
SUMMARY:Europe Olympic Qualification Tournament for Paris 2024
DESCRIPTION:Europe Olympic Qualification Tournament for Paris 2024\nhttps:/
 /www.taekwondobond.nl/events/europe-olympic-qualification-tournament-for-pa
 ris-2024/
URL:https://www.taekwondobond.nl/events/europe-olympic-qualification-tournament-for-paris-2024/
END:VEVENT
END:VCALENDAR