BEGIN:VCALENDAR
VERSION:2.0
PRODID:-//eventon.com NONSGML v1.0//EN
CALSCALE:GREGORIAN
METHOD:PUBLISH
BEGIN:VEVENT
UID:69eb9c046b286
DTSTAMP:20260424T163620Z
DTSTART:20240726T110300Z
DTEND:20240811T110300Z
LOCATION:
SUMMARY:Olympic Games Paris 2024
DESCRIPTION:Olympic Games Paris 2024\nhttps://www.taekwondobond.nl/events/o
 lympic-games-paris-2024/
URL:https://www.taekwondobond.nl/events/olympic-games-paris-2024/
END:VEVENT
END:VCALENDAR