BEGIN:VCALENDAR
VERSION:2.0
PRODID:-//eventon.com NONSGML v1.0//EN
CALSCALE:GREGORIAN
METHOD:PUBLISH
BEGIN:VEVENT
UID:69eb9befcbdd3
DTSTAMP:20260424T163559Z
DTSTART:20231209
DTEND:20231210
LOCATION:
SUMMARY:Nationaal danexamen
DESCRIPTION:Uitschrijving nationaal danexamen 9 december 2023\nhttps://www.
 taekwondobond.nl/events/nationaal-danexamen-12/
URL:https://www.taekwondobond.nl/events/nationaal-danexamen-12/
END:VEVENT
END:VCALENDAR