BEGIN:VCALENDAR
VERSION:2.0
PRODID:-//eventon.com NONSGML v1.0//EN
CALSCALE:GREGORIAN
METHOD:PUBLISH
BEGIN:VEVENT
UID:69eb9b9913d04
DTSTAMP:20260424T163433Z
DTSTART:20240622
DTEND:20240623
LOCATION:
SUMMARY:Nationaal danexamen
DESCRIPTION:uitschrijving nationaal danexamen 22 juni 2024\nhttps://www.tae
 kwondobond.nl/events/nationaal-danexamen-13/
URL:https://www.taekwondobond.nl/events/nationaal-danexamen-13/
END:VEVENT
END:VCALENDAR