BEGIN:VCALENDAR
VERSION:2.0
PRODID:-//eventon.com NONSGML v1.0//EN
CALSCALE:GREGORIAN
METHOD:PUBLISH
BEGIN:VEVENT
UID:69eb9bb1a0a5a
DTSTAMP:20260424T163457Z
DTSTART:20231111
DTEND:20231112
LOCATION:
SUMMARY:Nationaal herexamen
DESCRIPTION:Uitschrijving nationaal herexamen 11 november 2023\nhttps://www
 .taekwondobond.nl/events/nationaal-herexamen/
URL:https://www.taekwondobond.nl/events/nationaal-herexamen/
END:VEVENT
END:VCALENDAR