BEGIN:VCALENDAR
VERSION:2.0
PRODID:-//eventon.com NONSGML v1.0//EN
CALSCALE:GREGORIAN
METHOD:PUBLISH
BEGIN:VEVENT
UID:69eb9bd9b50c0
DTSTAMP:20260424T163537Z
DTSTART:20231111
DTEND:20231112
LOCATION:
SUMMARY:Danvoorbereidingstraining
DESCRIPTION:Uitschrijving danvoorbereidingstraining 11 november 2023\nhttps
 ://www.taekwondobond.nl/events/danvoorbereidingstraining-8/
URL:https://www.taekwondobond.nl/events/danvoorbereidingstraining-8/
END:VEVENT
END:VCALENDAR