BEGIN:VCALENDAR
VERSION:2.0
PRODID:-//eventon.com NONSGML v1.0//EN
CALSCALE:GREGORIAN
METHOD:PUBLISH
BEGIN:VEVENT
UID:69eb9bef84758
DTSTAMP:20260424T163559Z
DTSTART:20230915T124900Z
DTEND:20230924T124900Z
LOCATION:
SUMMARY:NOC*NSF Nationale Sportweek
DESCRIPTION:NOC*NSF Nationale Sportweek 2023 Sport inspireert\,  verbindt e
 n levert een belangrijke bijdrage aan de samenleving en ieder individu. Spo
 rt bepaalt voor een deel wie we zijn\,  wat we doen en vooral met wie we da
 t doen. Deelnemen aan sport betekent vaak deelnemen aan de maatschappij. Ti
 jdens de NOC*NSF Nationale Sportweek[..]\nhttps://www.taekwondobond.nl/even
 ts/nocnsf-nationale-sportweek/
URL:https://www.taekwondobond.nl/events/nocnsf-nationale-sportweek/
END:VEVENT
END:VCALENDAR