BEGIN:VCALENDAR
VERSION:2.0
PRODID:-//eventon.com NONSGML v1.0//EN
CALSCALE:GREGORIAN
METHOD:PUBLISH
BEGIN:VEVENT
UID:69eb9c4a12df8
DTSTAMP:20260424T163730Z
DTSTART:20240608
DTEND:20240609
LOCATION:
SUMMARY:Open districtskampioenschap stijl - district west
DESCRIPTION:UITSCHRIJVING ODK POOMSAE DISTRICT WEST 8 JUNI 2024 Loting-Open
 -District-West-Poomsae-Freestyle-Kampioenschappen-2024\nhttps://www.taekwon
 dobond.nl/events/open-districtskampioenschap-stijl-district-west-onder-voor
 behoud/
URL:https://www.taekwondobond.nl/events/open-districtskampioenschap-stijl-district-west-onder-voorbehoud/
END:VEVENT
END:VCALENDAR