BEGIN:VCALENDAR
VERSION:2.0
PRODID:-//eventon.com NONSGML v1.0//EN
CALSCALE:GREGORIAN
METHOD:PUBLISH
BEGIN:VEVENT
UID:69e5e39056756
DTSTAMP:20260420T082800Z
DTSTART:20231015T100000Z
DTEND:20231015T140000Z
LOCATION:Utrecht
SUMMARY:REGIONALE TRAINING STIJLTEAM WEST
DESCRIPTION:REGIONALE TRAINING STIJLTEAM WEST\nhttps://www.taekwondobond.nl
 /events/regionale-training-stijlteam-west-13/
URL:https://www.taekwondobond.nl/events/regionale-training-stijlteam-west-13/
END:VEVENT
END:VCALENDAR