BEGIN:VCALENDAR
VERSION:2.0
PRODID:-//eventon.com NONSGML v1.0//EN
CALSCALE:GREGORIAN
METHOD:PUBLISH
BEGIN:VEVENT
UID:69eb9c3fcdc53
DTSTAMP:20260424T163719Z
DTSTART:20240114T100000Z
DTEND:20240114T140000Z
LOCATION:Utrecht
SUMMARY:REGIONALE TRAINING STIJLTEAM WEST
DESCRIPTION:REGIONALE TRAINING STIJLTEAM WEST\nhttps://www.taekwondobond.nl
 /events/regionale-training-stijlteam-west-16/
URL:https://www.taekwondobond.nl/events/regionale-training-stijlteam-west-16/
END:VEVENT
END:VCALENDAR