BEGIN:VCALENDAR
VERSION:2.0
PRODID:-//eventon.com NONSGML v1.0//EN
CALSCALE:GREGORIAN
METHOD:PUBLISH
BEGIN:VEVENT
UID:69eb9c49b5e4b
DTSTAMP:20260424T163729Z
DTSTART:20240218T100000Z
DTEND:20240218T140000Z
LOCATION:Utrecht
SUMMARY:REGIONALE TRAINING STIJLTEAM WEST
DESCRIPTION:REGIONALE TRAINING STIJLTEAM WEST\nhttps://www.taekwondobond.nl
 /events/regionale-training-stijlteam-west-17/
URL:https://www.taekwondobond.nl/events/regionale-training-stijlteam-west-17/
END:VEVENT
END:VCALENDAR