BEGIN:VCALENDAR
VERSION:2.0
PRODID:-//eventon.com NONSGML v1.0//EN
CALSCALE:GREGORIAN
METHOD:PUBLISH
BEGIN:VEVENT
UID:69eb9c4a1900b
DTSTAMP:20260424T163730Z
DTSTART:20240421T100000Z
DTEND:20240421T140000Z
LOCATION:Utrecht
SUMMARY:REGIONALE TRAINING STIJLTEAM WEST
DESCRIPTION:REGIONALE TRAINING STIJLTEAM WEST\nhttps://www.taekwondobond.nl
 /events/regionale-training-stijlteam-west-19/
URL:https://www.taekwondobond.nl/events/regionale-training-stijlteam-west-19/
END:VEVENT
END:VCALENDAR