BEGIN:VCALENDAR
VERSION:2.0
PRODID:-//eventon.com NONSGML v1.0//EN
CALSCALE:GREGORIAN
METHOD:PUBLISH
BEGIN:VEVENT
UID:69e737dcb24db
DTSTAMP:20260421T083956Z
DTSTART:20240526T100000Z
DTEND:20240526T140000Z
LOCATION:Utrecht
SUMMARY:REGIONALE TRAINING STIJLTEAM WEST
DESCRIPTION:REGIONALE TRAINING STIJLTEAM WEST\nhttps://www.taekwondobond.nl
 /events/regionale-training-stijlteam-west-20/
URL:https://www.taekwondobond.nl/events/regionale-training-stijlteam-west-20/
END:VEVENT
END:VCALENDAR