BEGIN:VCALENDAR
VERSION:2.0
PRODID:-//eventon.com NONSGML v1.0//EN
CALSCALE:GREGORIAN
METHOD:PUBLISH
BEGIN:VEVENT
UID:69eb9c03bb959
DTSTAMP:20260424T163619Z
DTSTART:20240623T100000Z
DTEND:20240623T140000Z
LOCATION:Utrecht
SUMMARY:REGIONALE TRAINING STIJLTEAM WEST
DESCRIPTION:REGIONALE TRAINING STIJLTEAM WEST\nhttps://www.taekwondobond.nl
 /events/regionale-training-stijlteam-west-21/
URL:https://www.taekwondobond.nl/events/regionale-training-stijlteam-west-21/
END:VEVENT
END:VCALENDAR