BEGIN:VCALENDAR
VERSION:2.0
PRODID:-//eventon.com NONSGML v1.0//EN
CALSCALE:GREGORIAN
METHOD:PUBLISH
BEGIN:VEVENT
UID:69eb9c4c453f9
DTSTAMP:20260424T163732Z
DTSTART:20240707T100000Z
DTEND:20240707T140000Z
LOCATION:Utrecht
SUMMARY:REGIONALE TRAINING STIJLTEAM WEST
DESCRIPTION:REGIONALE TRAINING STIJLTEAM WEST\nhttps://www.taekwondobond.nl
 /events/regionale-training-stijlteam-west-copy/
URL:https://www.taekwondobond.nl/events/regionale-training-stijlteam-west-copy/
END:VEVENT
END:VCALENDAR