BEGIN:VCALENDAR
VERSION:2.0
PRODID:-//eventon.com NONSGML v1.0//EN
CALSCALE:GREGORIAN
METHOD:PUBLISH
BEGIN:VEVENT
UID:69eb9b6bd10bc
DTSTAMP:20260424T163347Z
DTSTART:20231203
DTEND:20231204
LOCATION:
SUMMARY:NK Poomsae 2023
DESCRIPTION:NK Poomsae&amp;Freestyle 2023\nhttps://www.taekwondobond.nl/eve
 nts/nk-poomsae-2023/
URL:https://www.taekwondobond.nl/events/nk-poomsae-2023/
END:VEVENT
END:VCALENDAR