BEGIN:VCALENDAR
VERSION:2.0
PRODID:-//eventon.com NONSGML v1.0//EN
CALSCALE:GREGORIAN
METHOD:PUBLISH
BEGIN:VEVENT
UID:69eb9b90e59dd
DTSTAMP:20260424T163424Z
DTSTART:20240127T090000Z
DTEND:20240127T120000Z
LOCATION:
SUMMARY:Online meeting opleiding taekwondotrainer-coach
DESCRIPTION:Aankondiging Opleiding Taekwondotrainer-coach 2024-2025 Aanmeld
 ingsformulier Opleiding 2024-2025\nhttps://www.taekwondobond.nl/events/onli
 ne-meeting-opleiding-taekwondotrainer-coach-2/
URL:https://www.taekwondobond.nl/events/online-meeting-opleiding-taekwondotrainer-coach-2/
END:VEVENT
END:VCALENDAR