BEGIN:VCALENDAR
VERSION:2.0
PRODID:-//eventon.com NONSGML v1.0//EN
CALSCALE:GREGORIAN
METHOD:PUBLISH
BEGIN:VEVENT
UID:69eb9b4b65c36
DTSTAMP:20260424T163315Z
DTSTART:20240217
DTEND:20240218
LOCATION:
SUMMARY:Lesdag opleiding taekwondotrainer-coach
DESCRIPTION:Lesdag opleiding taekwondotrainer-coach\nhttps://www.taekwondob
 ond.nl/events/lesdag-opleiding-taekwondotrainer-coach/
URL:https://www.taekwondobond.nl/events/lesdag-opleiding-taekwondotrainer-coach/
END:VEVENT
END:VCALENDAR