BEGIN:VCALENDAR
VERSION:2.0
PRODID:-//eventon.com NONSGML v1.0//EN
CALSCALE:GREGORIAN
METHOD:PUBLISH
BEGIN:VEVENT
UID:69eb9b6b6a627
DTSTAMP:20260424T163347Z
DTSTART:20240518
DTEND:20240519
LOCATION:
SUMMARY:Lesdag opleiding taekwondotrainer-coach
DESCRIPTION:Lesdag opleiding taekwondotrainer-coach\nhttps://www.taekwondob
 ond.nl/events/lesdag-opleiding-taekwondotrainer-coach-4/
URL:https://www.taekwondobond.nl/events/lesdag-opleiding-taekwondotrainer-coach-4/
END:VEVENT
END:VCALENDAR