BEGIN:VCALENDAR
VERSION:2.0
PRODID:-//eventon.com NONSGML v1.0//EN
CALSCALE:GREGORIAN
METHOD:PUBLISH
BEGIN:VEVENT
UID:69eb9b6b9620b
DTSTAMP:20260424T163347Z
DTSTART:20240601
DTEND:20240602
LOCATION:
SUMMARY:Lesdag opleiding taekwondotrainer-coach
DESCRIPTION:Lesdag opleiding taekwondotrainer-coach\nhttps://www.taekwondob
 ond.nl/events/lesdag-opleiding-taekwondotrainer-coach-5/
URL:https://www.taekwondobond.nl/events/lesdag-opleiding-taekwondotrainer-coach-5/
END:VEVENT
END:VCALENDAR