BEGIN:VCALENDAR
VERSION:2.0
PRODID:-//eventon.com NONSGML v1.0//EN
CALSCALE:GREGORIAN
METHOD:PUBLISH
BEGIN:VEVENT
UID:69eb9b6ad89f7
DTSTAMP:20260424T163346Z
DTSTART:20240629
DTEND:20240630
LOCATION:
SUMMARY:Lesdag opleiding taekwondotrainer-coach
DESCRIPTION:Lesdag opleiding taekwondotrainer-coach\nhttps://www.taekwondob
 ond.nl/events/lesdag-opleiding-taekwondotrainer-coach-6/
URL:https://www.taekwondobond.nl/events/lesdag-opleiding-taekwondotrainer-coach-6/
END:VEVENT
END:VCALENDAR