BEGIN:VCALENDAR
VERSION:2.0
PRODID:-//eventon.com NONSGML v1.0//EN
CALSCALE:GREGORIAN
METHOD:PUBLISH
BEGIN:VEVENT
UID:69eb9b4f091b4
DTSTAMP:20260424T163319Z
DTSTART:20241012
DTEND:20241013
LOCATION:
SUMMARY:Lesdag opleiding taekwondotrainer-coach
DESCRIPTION:Lesdag opleiding taekwondotrainer-coach\nhttps://www.taekwondob
 ond.nl/events/lesdag-opleiding-taekwondotrainer-coach-8/
URL:https://www.taekwondobond.nl/events/lesdag-opleiding-taekwondotrainer-coach-8/
END:VEVENT
END:VCALENDAR