BEGIN:VCALENDAR
VERSION:2.0
PRODID:-//eventon.com NONSGML v1.0//EN
CALSCALE:GREGORIAN
METHOD:PUBLISH
BEGIN:VEVENT
UID:69e5f8943c4db
DTSTAMP:20260420T095740Z
DTSTART:20240128
DTEND:20240129
LOCATION:
SUMMARY:Open Poomsae Diest
DESCRIPTION:uitnodiging Open Poomsae Diest 2024 (Ned)\nhttps://www.taekwond
 obond.nl/events/open-poomsae-diest-4/
URL:https://www.taekwondobond.nl/events/open-poomsae-diest-4/
END:VEVENT
END:VCALENDAR