BEGIN:VCALENDAR
VERSION:2.0
PRODID:-//eventon.com NONSGML v1.0//EN
CALSCALE:GREGORIAN
METHOD:PUBLISH
BEGIN:VEVENT
UID:69eb9c4a0bc41
DTSTAMP:20260424T163730Z
DTSTART:20231028T100000Z
DTEND:20231029T120000Z
LOCATION:
SUMMARY:Trainingsstage Poomsae
DESCRIPTION:Trainingsstage Poomsae Master Kim\nhttps://www.taekwondobond.nl
 /events/trainingsstage-poomsae/
URL:https://www.taekwondobond.nl/events/trainingsstage-poomsae/
END:VEVENT
END:VCALENDAR