BEGIN:VCALENDAR
VERSION:2.0
PRODID:-//eventon.com NONSGML v1.0//EN
CALSCALE:GREGORIAN
METHOD:PUBLISH
BEGIN:VEVENT
UID:69eb9b986b24c
DTSTAMP:20260424T163432Z
DTSTART:20241109
DTEND:20241110
LOCATION:
SUMMARY:Open Rosmalense Sparring
DESCRIPTION:Uitschrijving Open Rosmalense Sparring 2024\nhttps://www.taekwo
 ndobond.nl/events/open-rosmalense-sparring-onder-voorbehoud/
URL:https://www.taekwondobond.nl/events/open-rosmalense-sparring-onder-voorbehoud/
END:VEVENT
END:VCALENDAR