BEGIN:VCALENDAR
VERSION:2.0
PRODID:-//eventon.com NONSGML v1.0//EN
CALSCALE:GREGORIAN
METHOD:PUBLISH
BEGIN:VEVENT
UID:69eb9c04a64c7
DTSTAMP:20260424T163620Z
DTSTART:20241012
DTEND:20241013
LOCATION:
SUMMARY:TTE Open 2024
DESCRIPTION:TTE open outline Nederlands 2024 12-10-2024 (1)\nhttps://www.ta
 ekwondobond.nl/events/reservering/
URL:https://www.taekwondobond.nl/events/reservering/
END:VEVENT
END:VCALENDAR